BEGIN:VCALENDAR
VERSION:2.0
PRODID:-//Plone.org//NONSGML plone.app.event//EN
X-WR-TIMEZONE:Europe/Madrid
BEGIN:VEVENT
SUMMARY:Hora del conte per a menuts: No tinc paraules
DTSTART;TZID=Europe/Madrid;VALUE=DATE-TIME:20230124T180000
DTEND;TZID=Europe/Madrid;VALUE=DATE-TIME:20230124T190000
DTSTAMP;VALUE=DATE-TIME:20260420T075741Z
UID:fa4e4890b54041feb86a49dfd6fa8c91@www.rubi.cat
CATEGORIES:Activitat familiar,CarnetRubí360
CREATED;VALUE=DATE-TIME:20230104T125156Z
DESCRIPTION:Hora del conte per a infants d'1 a 4 anys
LAST-MODIFIED;VALUE=DATE-TIME:20230118T073046Z
LOCATION:Sala de Petits Lectors
URL:https://www.rubi.cat/ca/actualitat/agenda/hora-del-conte-per-a-menuts-
 no-tinc-paraules
END:VEVENT
BEGIN:VTIMEZONE
TZID:Europe/Madrid
X-LIC-LOCATION:Europe/Madrid
BEGIN:STANDARD
DTSTART;VALUE=DATE-TIME:20221030T020000
TZNAME:CET
TZOFFSETFROM:+0200
TZOFFSETTO:+0100
END:STANDARD
END:VTIMEZONE
END:VCALENDAR
