BEGIN:VCALENDAR
VERSION:2.0
PRODID:-//Plone.org//NONSGML plone.app.event//EN
X-WR-TIMEZONE:Europe/Madrid
BEGIN:VEVENT
SUMMARY:Gimnàstica suau a l'aire lliure!
DTSTART;TZID=Europe/Madrid;VALUE=DATE-TIME:20250903T103000
DTEND;TZID=Europe/Madrid;VALUE=DATE-TIME:20250903T113000
DTSTAMP;VALUE=DATE-TIME:20260419T234257Z
UID:047ba440f46948feab087449158818c1@www.rubi.cat
RRULE:FREQ=WEEKLY;UNTIL=20250924T000000;BYDAY=WE
EXDATE;TZID=Europe/Madrid:20250528T000000
CATEGORIES:Acció comunitària,Esports
CREATED;VALUE=DATE-TIME:20250429T091420Z
DESCRIPTION:Continuen les sessions d'activitat física per a la gent gran 
 al barri de Les Torres
LAST-MODIFIED;VALUE=DATE-TIME:20250724T122415Z
LOCATION:Pl. Constitució
URL:https://www.rubi.cat/ca/actualitat/agenda/gimnastica-suau-a-laire-lliu
 re-03-09-2025
END:VEVENT
BEGIN:VTIMEZONE
TZID:Europe/Madrid
X-LIC-LOCATION:Europe/Madrid
BEGIN:DAYLIGHT
DTSTART;VALUE=DATE-TIME:20250330T030000
TZNAME:CEST
TZOFFSETFROM:+0100
TZOFFSETTO:+0200
END:DAYLIGHT
END:VTIMEZONE
END:VCALENDAR
