BEGIN:VCALENDAR
VERSION:2.0
PRODID:-//Plone.org//NONSGML plone.app.event//EN
X-WR-TIMEZONE:Europe/Madrid
BEGIN:VEVENT
SUMMARY:Fira del Vi
DTSTART;TZID=Europe/Madrid;VALUE=DATE-TIME:20241110T110000
DTEND;TZID=Europe/Madrid;VALUE=DATE-TIME:20241110T160000
DTSTAMP;VALUE=DATE-TIME:20260420T114911Z
UID:5c79092704e14f92bc05053efff2aa0a@www.rubi.cat
CATEGORIES:Fira,Música,Restauració
CREATED;VALUE=DATE-TIME:20231010T103949Z
DESCRIPTION:El Celler acull la 12a edició de la Fira del Vi del 8 al 10 d
 e novembre
LAST-MODIFIED;VALUE=DATE-TIME:20241104T125941Z
URL:https://www.rubi.cat/ca/actualitat/agenda/fira-del-vi-6
END:VEVENT
BEGIN:VTIMEZONE
TZID:Europe/Madrid
X-LIC-LOCATION:Europe/Madrid
BEGIN:STANDARD
DTSTART;VALUE=DATE-TIME:20241027T020000
TZNAME:CET
TZOFFSETFROM:+0200
TZOFFSETTO:+0100
END:STANDARD
END:VTIMEZONE
END:VCALENDAR
