BEGIN:VCALENDAR
VERSION:2.0
PRODID:-//Plone.org//NONSGML plone.app.event//EN
X-WR-TIMEZONE:Europe/Madrid
BEGIN:VEVENT
SUMMARY:Fira de la Cervesa Artesana i el Formatge 2023
DTSTART;TZID=Europe/Madrid;VALUE=DATE-TIME:20230512T180000
DTEND;TZID=Europe/Madrid;VALUE=DATE-TIME:20230514T210000
DTSTAMP;VALUE=DATE-TIME:20260420T025931Z
UID:bbeba1c014a24c0e9b712fe305562397@www.rubi.cat
ATTENDEE;CN="Dirigida a tots els públics";ROLE=REQ-PARTICIPANT:Dirigida a
  tots els públics
CATEGORIES:Activitat familiar,Espectacle,Música
CONTACT:https://www.rubi.cat/ca/temes/comerc/fires-i-esdeveniments/fira-de
 -la-cervesa-artesana-i-el-formatge
CREATED;VALUE=DATE-TIME:20230511T104516Z
DESCRIPTION:Arribem a la 8a edició d'aquest fira gastronòmica. Trobareu 
 cerveses artesanes\, formatges\, restauració local\, parades alimentàrie
 s i música en directe.
LAST-MODIFIED;VALUE=DATE-TIME:20230511T122815Z
LOCATION:A la Rambla del Ferrocarril de Rubí
URL:https://www.rubi.cat/ca/actualitat/agenda/fira-de-la-cervesa-artesana-
 i-el-formatge-2023
END:VEVENT
BEGIN:VTIMEZONE
TZID:Europe/Madrid
X-LIC-LOCATION:Europe/Madrid
BEGIN:DAYLIGHT
DTSTART;VALUE=DATE-TIME:20230326T030000
TZNAME:CEST
TZOFFSETFROM:+0100
TZOFFSETTO:+0200
END:DAYLIGHT
END:VTIMEZONE
END:VCALENDAR
