BEGIN:VCALENDAR
VERSION:2.0
PRODID:-//Plone.org//NONSGML plone.app.event//EN
X-WR-TIMEZONE:Europe/Madrid
BEGIN:VEVENT
SUMMARY:El meu fill o filla té diversitat funcional
DTSTART;TZID=Europe/Madrid;VALUE=DATE-TIME:20211130T173000
DTEND;TZID=Europe/Madrid;VALUE=DATE-TIME:20211130T190000
DTSTAMP;VALUE=DATE-TIME:20260419T193923Z
UID:2e72c23de6fb441989d5888634849a55@www.rubi.cat
CATEGORIES:Conferència
CREATED;VALUE=DATE-TIME:20211104T090039Z
DESCRIPTION:Dia Internacional de les Persones amb Diversitat Funcional
LAST-MODIFIED;VALUE=DATE-TIME:20211104T090324Z
LOCATION:Sala Chill Out
URL:https://www.rubi.cat/ca/actualitat/agenda/el-meu-fill-o-filla-te-diver
 sitat-funcional
END:VEVENT
BEGIN:VTIMEZONE
TZID:Europe/Madrid
X-LIC-LOCATION:Europe/Madrid
BEGIN:STANDARD
DTSTART;VALUE=DATE-TIME:20211031T020000
TZNAME:CET
TZOFFSETFROM:+0200
TZOFFSETTO:+0100
END:STANDARD
END:VTIMEZONE
END:VCALENDAR
