BEGIN:VCALENDAR
VERSION:2.0
PRODID:-//Plone.org//NONSGML plone.app.event//EN
X-WR-TIMEZONE:Europe/Madrid
BEGIN:VEVENT
SUMMARY:[ACTIVITAT CANCEL·LADA] Dia d'Andalusia: Actes al parc de Ca n'Or
 iol
DTSTART;TZID=Europe/Madrid;VALUE=DATE-TIME:20250315T140000
DTEND;TZID=Europe/Madrid;VALUE=DATE-TIME:20250315T190000
DTSTAMP;VALUE=DATE-TIME:20260419T162245Z
UID:4e671c15550d43c1bb864a5e15373cbb@www.rubi.cat
CATEGORIES:Cultura popular i tradicional
CREATED;VALUE=DATE-TIME:20240226T132540Z
DESCRIPTION:Paella popular i actuacions
LAST-MODIFIED;VALUE=DATE-TIME:20250314T073019Z
LOCATION:Parc de Ca n'Oriol
URL:https://www.rubi.cat/ca/actualitat/agenda/dia-dandalusia-actes-al-parc
 -de-ca-noriol
END:VEVENT
BEGIN:VTIMEZONE
TZID:Europe/Madrid
X-LIC-LOCATION:Europe/Madrid
BEGIN:STANDARD
DTSTART;VALUE=DATE-TIME:20241027T020000
TZNAME:CET
TZOFFSETFROM:+0200
TZOFFSETTO:+0100
END:STANDARD
END:VTIMEZONE
END:VCALENDAR
