BEGIN:VCALENDAR
VERSION:2.0
PRODID:-//Plone.org//NONSGML plone.app.event//EN
X-WR-TIMEZONE:Europe/Madrid
BEGIN:VEVENT
SUMMARY:Dimecres manetes
DTSTART;TZID=Europe/Madrid;VALUE=DATE-TIME:20230301T100000
DTEND;TZID=Europe/Madrid;VALUE=DATE-TIME:20230301T130000
DTSTAMP;VALUE=DATE-TIME:20260420T051840Z
UID:13dba65e3b944542a15c42640c482c2b@www.rubi.cat
CATEGORIES:Taller,Formació
CONTACT:https://www.rubi.cat/ca/temes/medi-ambient/residus/rubi-residu-zer
 o/dimecres-manetes/dimecres-manetes
CREATED;VALUE=DATE-TIME:20220905T113617Z
DESCRIPTION:Servei d'autoreparació de petits aparells elèctrics i electr
 ònics
LAST-MODIFIED;VALUE=DATE-TIME:20230214T140841Z
LOCATION:Punt d'Informació de la plaça Pearson
URL:https://www.rubi.cat/ca/actualitat/agenda/copy_of_dimecres-manetes-mat
 i-hivern-23
END:VEVENT
BEGIN:VTIMEZONE
TZID:Europe/Madrid
X-LIC-LOCATION:Europe/Madrid
BEGIN:STANDARD
DTSTART;VALUE=DATE-TIME:20221030T020000
TZNAME:CET
TZOFFSETFROM:+0200
TZOFFSETTO:+0100
END:STANDARD
END:VTIMEZONE
END:VCALENDAR
