BEGIN:VCALENDAR
VERSION:2.0
PRODID:-//Plone.org//NONSGML plone.app.event//EN
X-WR-TIMEZONE:Europe/Madrid
BEGIN:VEVENT
SUMMARY:Curs d'escriptura creativa. Un món per descobrir (primer nivell)
DTSTART;TZID=Europe/Madrid;VALUE=DATE-TIME:20210421T190000
DTEND;TZID=Europe/Madrid;VALUE=DATE-TIME:20210609T203000
DTSTAMP;VALUE=DATE-TIME:20260420T062015Z
UID:2faee3f7e2b4425d92410056d5b96ff2@www.rubi.cat
CATEGORIES:Formació
CONTACT:93 588 74 73\, ateneu@ajrubi.cat
CREATED;VALUE=DATE-TIME:20201216T090002Z
DESCRIPTION:Cursos i tallers | Programació de primavera 2021
LAST-MODIFIED;VALUE=DATE-TIME:20210322T092734Z
URL:https://www.rubi.cat/ca/actualitat/agenda/copy_of_curs-descriptura-cre
 ativa-un-mon-per-descobrir-primer-nivell
END:VEVENT
BEGIN:VTIMEZONE
TZID:Europe/Madrid
X-LIC-LOCATION:Europe/Madrid
BEGIN:DAYLIGHT
DTSTART;VALUE=DATE-TIME:20210328T030000
TZNAME:CEST
TZOFFSETFROM:+0100
TZOFFSETTO:+0200
END:DAYLIGHT
END:VTIMEZONE
END:VCALENDAR
