BEGIN:VCALENDAR
VERSION:2.0
PRODID:-//Plone.org//NONSGML plone.app.event//EN
X-WR-TIMEZONE:Europe/Madrid
BEGIN:VEVENT
SUMMARY:Conflictes de convivència. I si parlem d’oportunitats?
DTSTART;TZID=Europe/Madrid;VALUE=DATE-TIME:20240120T113000
DTEND;TZID=Europe/Madrid;VALUE=DATE-TIME:20240120T133000
DTSTAMP;VALUE=DATE-TIME:20260420T083725Z
UID:6e86642f05a04774bcc8326d34edebbf@www.rubi.cat
CATEGORIES:Teatre
CONTACT:https://www.rubi.cat/setmanamediacio
CREATED;VALUE=DATE-TIME:20240111T130550Z
DESCRIPTION:Teatrefòrum a l'espai públic. Setmana de la Mediació
LAST-MODIFIED;VALUE=DATE-TIME:20240111T131118Z
LOCATION:Plaça del Mercat
URL:https://www.rubi.cat/ca/actualitat/agenda/conflictes-de-convivencia-i-
 si-parlem-d2019oportunitats
END:VEVENT
BEGIN:VTIMEZONE
TZID:Europe/Madrid
X-LIC-LOCATION:Europe/Madrid
BEGIN:STANDARD
DTSTART;VALUE=DATE-TIME:20231029T020000
TZNAME:CET
TZOFFSETFROM:+0200
TZOFFSETTO:+0100
END:STANDARD
END:VTIMEZONE
END:VCALENDAR
