BEGIN:VCALENDAR
VERSION:2.0
PRODID:-//Plone.org//NONSGML plone.app.event//EN
X-WR-TIMEZONE:Europe/Madrid
BEGIN:VEVENT
SUMMARY:Concert de Blues a Can Ramoneda
DTSTART;TZID=Europe/Madrid;VALUE=DATE-TIME:20240324T120000
DTEND;TZID=Europe/Madrid;VALUE=DATE-TIME:20240324T140000
DTSTAMP;VALUE=DATE-TIME:20260420T062156Z
UID:c219a34ba22044a790d651ba051d16b5@www.rubi.cat
CATEGORIES:Música
CONTACT:https://societatbluesrubi.com
CREATED;VALUE=DATE-TIME:20240311T103133Z
DESCRIPTION:Nou concert-vermut organitzat per la Societat Blues Rubí
LAST-MODIFIED;VALUE=DATE-TIME:20240312T075218Z
LOCATION:Masia Can Ramoneda. Camí de Sant Muç\, s/n
URL:https://www.rubi.cat/ca/actualitat/agenda/concert-de-blues-a-can-ramon
 eda-5
END:VEVENT
BEGIN:VTIMEZONE
TZID:Europe/Madrid
X-LIC-LOCATION:Europe/Madrid
BEGIN:STANDARD
DTSTART;VALUE=DATE-TIME:20231029T020000
TZNAME:CET
TZOFFSETFROM:+0200
TZOFFSETTO:+0100
END:STANDARD
END:VTIMEZONE
END:VCALENDAR
