BEGIN:VCALENDAR
VERSION:2.0
PRODID:-//Plone.org//NONSGML plone.app.event//EN
X-WR-TIMEZONE:Europe/Madrid
BEGIN:VEVENT
SUMMARY:Com interpretar els papers que em dona la gestoria per controlar e
 l negoci
DTSTART;TZID=Europe/Madrid;VALUE=DATE-TIME:20230413T093000
DTEND;TZID=Europe/Madrid;VALUE=DATE-TIME:20230413T120000
DTSTAMP;VALUE=DATE-TIME:20260420T031253Z
UID:af40c4a9325c4ee490d9fe7eb6965d1d@www.rubi.cat
ATTENDEE;CN="Persones emprenedores, empreses, pimes, professionals, autòn
 oms/es...";ROLE=REQ-PARTICIPANT:Persones emprenedores, empreses, pimes, pr
 ofessionals, autònoms/es...
CATEGORIES:Formació
CONTACT:93 588 70 00 ext. #6154\, alv@ajrubi.cat
CREATED;VALUE=DATE-TIME:20230328T142151Z
DESCRIPTION:Formació empresarial
LAST-MODIFIED;VALUE=DATE-TIME:20230329T103432Z
LOCATION:En línia
URL:https://www.rubi.cat/ca/actualitat/agenda/com-interpretar-els-papers-q
 ue-em-dona-la-gestoria-per-controlar-el-negoci
END:VEVENT
BEGIN:VTIMEZONE
TZID:Europe/Madrid
X-LIC-LOCATION:Europe/Madrid
BEGIN:DAYLIGHT
DTSTART;VALUE=DATE-TIME:20230326T030000
TZNAME:CEST
TZOFFSETFROM:+0100
TZOFFSETTO:+0200
END:DAYLIGHT
END:VTIMEZONE
END:VCALENDAR
