BEGIN:VCALENDAR
VERSION:2.0
PRODID:-//Plone.org//NONSGML plone.app.event//EN
X-WR-TIMEZONE:Europe/Madrid
BEGIN:VEVENT
SUMMARY:Com guanyar diners a Internet. Models de negoci que funcionen onli
 ne
DTSTART;TZID=Europe/Madrid;VALUE=DATE-TIME:20240708T093000
DTEND;TZID=Europe/Madrid;VALUE=DATE-TIME:20240708T133000
DTSTAMP;VALUE=DATE-TIME:20260420T113742Z
UID:48e744117e3444a6ba3555f0127eacb8@www.rubi.cat
ATTENDEE;CN="Persones emprenedores, empreses, pimes, professionals, autòn
 oms/es...";ROLE=REQ-PARTICIPANT:Persones emprenedores, empreses, pimes, pr
 ofessionals, autònoms/es...
CATEGORIES:Formació
CONTACT:93 588 70 00 ext. #6150\, occ@ajrubi.cat
CREATED;VALUE=DATE-TIME:20240620T115159Z
DESCRIPTION:Formació empresarial
LAST-MODIFIED;VALUE=DATE-TIME:20240621T061210Z
LOCATION:Sala Fòrum\, Masia Can Serra
URL:https://www.rubi.cat/ca/actualitat/agenda/com-guanyar-diners-a-interne
 t-models-de-negoci-que-funcionen-online
END:VEVENT
BEGIN:VTIMEZONE
TZID:Europe/Madrid
X-LIC-LOCATION:Europe/Madrid
BEGIN:DAYLIGHT
DTSTART;VALUE=DATE-TIME:20240331T030000
TZNAME:CEST
TZOFFSETFROM:+0100
TZOFFSETTO:+0200
END:DAYLIGHT
END:VTIMEZONE
END:VCALENDAR
