BEGIN:VCALENDAR
VERSION:2.0
PRODID:-//Plone.org//NONSGML plone.app.event//EN
X-WR-TIMEZONE:Europe/Madrid
BEGIN:VEVENT
SUMMARY:Benjamín Leon Quartet
DTSTART;TZID=Europe/Madrid;VALUE=DATE-TIME:20210917T220000
DTEND;TZID=Europe/Madrid;VALUE=DATE-TIME:20210917T233000
DTSTAMP;VALUE=DATE-TIME:20260420T112217Z
UID:c8bc81756704434e9abb91201754e388@www.rubi.cat
CATEGORIES:Música
CONTACT:93 588 74 73\, ateneu@ajrubi.cat
CREATED;VALUE=DATE-TIME:20210729T120041Z
DESCRIPTION:XX Jornades de Jazz
LAST-MODIFIED;VALUE=DATE-TIME:20210809T123456Z
URL:https://www.rubi.cat/ca/actualitat/agenda/benjamin-leon-quartet
END:VEVENT
BEGIN:VTIMEZONE
TZID:Europe/Madrid
X-LIC-LOCATION:Europe/Madrid
BEGIN:DAYLIGHT
DTSTART;VALUE=DATE-TIME:20210328T030000
TZNAME:CEST
TZOFFSETFROM:+0100
TZOFFSETTO:+0200
END:DAYLIGHT
END:VTIMEZONE
END:VCALENDAR
