BEGIN:VCALENDAR
VERSION:2.0
PRODID:-//Plone.org//NONSGML plone.app.event//EN
X-WR-TIMEZONE:Europe/Madrid
BEGIN:VEVENT
SUMMARY:Belén Bandera: A l'ombra del lledoner
DTSTART;TZID=Europe/Madrid;VALUE=DATE-TIME:20250307T190000
DTEND;TZID=Europe/Madrid;VALUE=DATE-TIME:20250307T203000
DTSTAMP;VALUE=DATE-TIME:20260419T225719Z
UID:165ef78502d54da7a76ef74342a69d02@www.rubi.cat
CATEGORIES:Música,Dia de les Dones 2025
CREATED;VALUE=DATE-TIME:20241125T122817Z
DESCRIPTION:Músiques nobles
LAST-MODIFIED;VALUE=DATE-TIME:20250228T125740Z
URL:https://www.rubi.cat/ca/actualitat/agenda/belen-bandera-a-lomgra-del-l
 ledoner
END:VEVENT
BEGIN:VTIMEZONE
TZID:Europe/Madrid
X-LIC-LOCATION:Europe/Madrid
BEGIN:STANDARD
DTSTART;VALUE=DATE-TIME:20241027T020000
TZNAME:CET
TZOFFSETFROM:+0200
TZOFFSETTO:+0100
END:STANDARD
END:VTIMEZONE
END:VCALENDAR
