BEGIN:VCALENDAR
VERSION:2.0
PRODID:-//Plone.org//NONSGML plone.app.event//EN
X-WR-TIMEZONE:Europe/Madrid
BEGIN:VEVENT
SUMMARY:Ballarines de peus plans (sessió de les 17.30 h)
DTSTART;TZID=Europe/Madrid;VALUE=DATE-TIME:20241205T173000
DTEND;TZID=Europe/Madrid;VALUE=DATE-TIME:20241205T183000
DTSTAMP;VALUE=DATE-TIME:20260420T025933Z
UID:52eed48c15a34367b70500313fffb558@www.rubi.cat
CATEGORIES:Teatre
CREATED;VALUE=DATE-TIME:20241118T111313Z
DESCRIPTION:Teatre a l'Ateneu
LAST-MODIFIED;VALUE=DATE-TIME:20241126T131610Z
URL:https://www.rubi.cat/ca/actualitat/agenda/ballarines-de-peus-plans-ses
 sio-de-les-17-30-h
END:VEVENT
BEGIN:VTIMEZONE
TZID:Europe/Madrid
X-LIC-LOCATION:Europe/Madrid
BEGIN:STANDARD
DTSTART;VALUE=DATE-TIME:20241027T020000
TZNAME:CET
TZOFFSETFROM:+0200
TZOFFSETTO:+0100
END:STANDARD
END:VTIMEZONE
END:VCALENDAR
