BEGIN:VCALENDAR
VERSION:2.0
PRODID:-//Plone.org//NONSGML plone.app.event//EN
X-WR-TIMEZONE:Europe/Madrid
BEGIN:VEVENT
SUMMARY:Autoconsum fotovoltaic compartit
DTSTART;TZID=Europe/Madrid;VALUE=DATE-TIME:20220428T190000
DTEND;TZID=Europe/Madrid;VALUE=DATE-TIME:20220428T203000
DTSTAMP;VALUE=DATE-TIME:20260419T144159Z
UID:6c27da77b52848489dab673bd703b4b5@www.rubi.cat
CATEGORIES:Taller
CONTACT:93 581 39 00\, rubi_brilla@ajrubi.cat\, https://www.rubi.cat/diade
 laterra
CREATED;VALUE=DATE-TIME:20220329T094152Z
DESCRIPTION:Dia de la Terra
LAST-MODIFIED;VALUE=DATE-TIME:20220425T061350Z
LOCATION:Auditori
URL:https://www.rubi.cat/ca/actualitat/agenda/autoconsum-fotovoltaic-compa
 rtit
END:VEVENT
BEGIN:VTIMEZONE
TZID:Europe/Madrid
X-LIC-LOCATION:Europe/Madrid
BEGIN:DAYLIGHT
DTSTART;VALUE=DATE-TIME:20220327T030000
TZNAME:CEST
TZOFFSETFROM:+0100
TZOFFSETTO:+0200
END:DAYLIGHT
END:VTIMEZONE
END:VCALENDAR
