BEGIN:VCALENDAR
VERSION:2.0
PRODID:-//Plone.org//NONSGML plone.app.event//EN
X-WR-TIMEZONE:Europe/Madrid
BEGIN:VEVENT
SUMMARY:29a Fira de Sant Galderic
DTSTART;TZID=Europe/Madrid;VALUE=DATE-TIME:20241019T100000
DTEND;TZID=Europe/Madrid;VALUE=DATE-TIME:20241019T230000
DTSTAMP;VALUE=DATE-TIME:20260419T161708Z
UID:c8fc391888ea42c4804af0f597e3b998@www.rubi.cat
CATEGORIES:Fira
CONTACT:https://santgaldericrubi.com/
CREATED;VALUE=DATE-TIME:20241007T064446Z
DESCRIPTION:Vine a gaudir de diferents propostes artístiques i pagesia!
LAST-MODIFIED;VALUE=DATE-TIME:20241007T064749Z
LOCATION:Diferents ubicacions (consulta el programa adjunt)
URL:https://www.rubi.cat/ca/actualitat/agenda/29a-fira-de-sant-galderic
END:VEVENT
BEGIN:VTIMEZONE
TZID:Europe/Madrid
X-LIC-LOCATION:Europe/Madrid
BEGIN:DAYLIGHT
DTSTART;VALUE=DATE-TIME:20240331T030000
TZNAME:CEST
TZOFFSETFROM:+0100
TZOFFSETTO:+0200
END:DAYLIGHT
END:VTIMEZONE
END:VCALENDAR
